BEGIN:VCALENDAR
VERSION:2.0
PRODID:-//wp-events-plugin.com//7.1.2//EN
TZID:Asia/Tokyo
X-WR-TIMEZONE:Asia/Tokyo
BEGIN:VEVENT
UID:4468@unesco-school.mext.go.jp
DTSTART;TZID=Asia/Tokyo;VALUE=DATE:20241105
DTEND;TZID=Asia/Tokyo;VALUE=DATE:20241106
DTSTAMP:20241028T004546Z
URL:https://www.unesco-school.mext.go.jp/events/world-tsunami-day-11-5-3/
SUMMARY:「世界津波の日」（11/5）
DESCRIPTION:※以下は、ユネスコ本部のページ（https://www.une
 sco.org/en/days/tsunami-awareness）の要約・仮訳です\n\n11月5日
 は「世界津波の日」です。\n\n津波は、起きる頻度こそ
 高くはないものの、最も破壊的な自然災害の一つです
 。津波はどこでも起りうり、海岸線を選びません。\n\n
 海抜が低く、人口密度の高い沿岸地域は、津波を含む
 沿岸災害に最も脆弱な地域であり、災害により多くの
 人命の喪失や多大な経済的損失に見舞われます。政治
 的理解、そして人々の理解をより深め、沿岸地域にお
 ける自然災害のリスクを軽減するためには、国際協力
 が鍵となります。\n\nそのため、2015年12月に国連総会に
 て、津波に関する意識を高め、津波に対して準備する
 グローバル文化の推進を目指して、「世界津波の日」
 が制定されました。\n#TsunamiDay #GetToHighGround\n\nユネスコ
 政府間海洋学委員会（IOC）\nユネスコの政府間海洋学委
 員会（IOC：https://www.ioc.unesco.org/en）は、各国及び地域の
 津波に関する早期警報事業と連携し、災害にさらされ
 るリスクを減らすため、太平洋、インド洋、カリブ海
 、北東大西洋・地中海及び接続海域の4つの津波警戒・
 減災システムを通して効果的な行動や政策、実践に対
 する世界的な関心を高める取り組みを行っています。IO
 Cはさらに、津波に対する世界各国の人々やコミュニテ
 ィの連携と備えの強化及び理解を深めるため、加盟国
 の教育プログラム及び定期的な津波に関するコミュニ
 ケーションや避難訓練を支援しています。\n\n「世界津
 波の日」公式ウェブサイトはこちら：https://tsunamiday.undr
 r.org/\n\nユネスコスクールの国際指針では、年に2回以上
 国際デーを記念することが加盟継続の条件とされてい
 ます。「世界津波の日」を取り上げ、本テーマでSDGs達
 成に向けた取組をしてみませんか？\n\nユネスコHP「世
 界津波の日」（英）：https://www.unesco.org/en/days/tsunami-aware
 ness\nユネスコHP「国際デー」一覧（英）：https://www.unesco
 .org/en/days
END:VEVENT
BEGIN:VTIMEZONE
TZID:Asia/Tokyo
X-LIC-LOCATION:Asia/Tokyo
BEGIN:STANDARD
DTSTART:20231106T000000
TZOFFSETFROM:+0900
TZOFFSETTO:+0900
TZNAME:JST
END:STANDARD
END:VTIMEZONE
END:VCALENDAR