BEGIN:VCALENDAR
VERSION:2.0
PRODID:-//wp-events-plugin.com//7.1.2//EN
TZID:Asia/Tokyo
X-WR-TIMEZONE:Asia/Tokyo
BEGIN:VEVENT
UID:4457@unesco-school.mext.go.jp
DTSTART;TZID=Asia/Tokyo;VALUE=DATE:20240608
DTEND;TZID=Asia/Tokyo;VALUE=DATE:20240609
DTSTAMP:20240531T053305Z
URL:https://www.unesco-school.mext.go.jp/events/world-oceanoic-day-6-8-3/
SUMMARY:「世界海洋デー」（6/8）
DESCRIPTION:6月8日は「世界海洋デー」です。2008年12月5日の
 国連総会にて制定されました。世界海洋デーのコンセ
 プトは、世界で共有する海や個人個人の海とのつなが
 りに思いをはせ、海が私たちの生活に果たす重要な役
 割や海を守る大切な方法についての認識を高めること
 を目的に、1992年にリオデジャネイロで開催された地球
 サミットにて初めて提案されました。\n\n海は人類及び
 地球上のすべての生命を支えています。私たちは、海
 に完全に依存しているにもかかわらず、その10％ほどし
 か探査していません。海の広大さに比べ、私たちの知
 っていることはほんのわずかですが、わかっているこ
 とは私たちの行動の結果が海の至るところで明らかに
 なっていることです。私たちは早急に海との関係を改
 善しなければなりませんが、私たちの努力はこれまで
 のところ表面をかすっただけにすぎません。海に関す
 る機運を広めるため、私たちは海と海が支えているす
 べてのものに対して目を向け、新たに理解や思いやり
 を深め、協力し、尽力しなければなません。\n\n2024年の
 「世界海洋デー」を記念し、国連は政策立案者、科学
 者、民間企業経営者、先住民族コミュニティ、著名人
 や青少年の活動家と手を組み、地球がどれほど大切な
 ものかを強調し、いよいよ海を最優先に考えます。\n\n
 ユネスコスクールの国際指針では、年に2回以上国際デ
 ーを記念することが加盟継続の条件とされています。
 「世界海洋デー」を取り上げ、本テーマでSDGs達成に向
 けた取組をしてみませんか？\n\nユネスコHP「世界海洋
 デー」（英）：https://www.unesco.org/en/days/oceans\nユネスコHP
 「国際デー」一覧（英）：https://www.unesco.org/en/days
END:VEVENT
BEGIN:VTIMEZONE
TZID:Asia/Tokyo
X-LIC-LOCATION:Asia/Tokyo
BEGIN:STANDARD
DTSTART:20230609T000000
TZOFFSETFROM:+0900
TZOFFSETTO:+0900
TZNAME:JST
END:STANDARD
END:VTIMEZONE
END:VCALENDAR