BEGIN:VCALENDAR
VERSION:2.0
PRODID:-//wp-events-plugin.com//7.1.2//EN
TZID:Asia/Tokyo
X-WR-TIMEZONE:Asia/Tokyo
BEGIN:VEVENT
UID:4445@unesco-school.mext.go.jp
DTSTART;TZID=Asia/Tokyo;VALUE=DATE:20231120
DTEND;TZID=Asia/Tokyo;VALUE=DATE:20231121
DTSTAMP:20231113T011826Z
URL:https://www.unesco-school.mext.go.jp/events/world-childrens-day-11-20-
 3/
SUMMARY:「世界子どもの日」（11/20）
DESCRIPTION:11月20日は「世界子どもの日」です。1954年に制
 定された世界子どもの日は、国際的な連帯を推進し、
 世界の子どもたちの意識及び福祉を向上することを目
 的としています。\n\n11月20日は、1959年に「児童に関す
 る権利の宣言」、1989年に「子どもの権利条約」が国連
 総会にて採択された日でもあります。\n\n母親、父親、
 教師、看護師、医師、政府指導者、市民社会の活動家
 、宗教家や地域社会の長老、企業経営者、メディア関
 係者及び若者や子どもたち自身は、それぞれの社会、
 コミュニティそして国にとって世界子どもの日を意義
 あるものにするために大切な役割を果たすことができ
 ます。\n\n世界子どもの日は、子どもにとってより良い
 世界を構築するための対話や行動につながる、子ども
 の権利を主張・促進するきっかけとなる日なのです。\n
 \n2023年のテーマは、「For every child\, every right（すべての
 子どもたちにすべての権利を）」です。\n気候変動や教
 育、メンタルヘルスから人種差別を含む差別をなくす
 ことまで、子どもや若者たちは自分たちの世代に関わ
 る問題に声を上げ、大人たちにより良い未来を築くよ
 う呼び掛けています。\n今年の世界子どもの日では、こ
 れまでになく子どもたちの考えや要求に耳を傾けるこ
 とが重要です。\n11月20日、子どもたちはより公平で包
 摂的な世界のために立ち上がります。\nあなたに何がで
 きるかを知りたい場合はこちらをクリック。\n\nユネス
 コスクールの国際指針では、年に2回以上国際デーを記
 念することが加盟継続の条件とされています。「世界
 子どもの日」を取り上げ、本テーマでSDGs達成に向けた
 取組をしてみませんか？\n\n国連HP「世界子どもの日」
 （英）：https://www.un.org/en/observances/world-childrens-day\nユネ
 スコHP「国際デー」一覧（英）：https://www.unesco.org/en/days
END:VEVENT
BEGIN:VTIMEZONE
TZID:Asia/Tokyo
X-LIC-LOCATION:Asia/Tokyo
BEGIN:STANDARD
DTSTART:20221120T000000
TZOFFSETFROM:+0900
TZOFFSETTO:+0900
TZNAME:JST
END:STANDARD
END:VTIMEZONE
END:VCALENDAR