BEGIN:VCALENDAR
VERSION:2.0
PRODID:-//wp-events-plugin.com//7.1.2//EN
TZID:Asia/Tokyo
X-WR-TIMEZONE:Asia/Tokyo
BEGIN:VEVENT
UID:4441@unesco-school.mext.go.jp
DTSTART;TZID=Asia/Tokyo;VALUE=DATE:20231024
DTEND;TZID=Asia/Tokyo;VALUE=DATE:20231025
DTSTAMP:20231017T002201Z
URL:https://www.unesco-school.mext.go.jp/events/united-nations-day-10-24-2
 /
SUMMARY:「国連デー」（10/24）
DESCRIPTION:10月24日は「国連デー」です。国連デーは、1945
 年に国連憲章が発効されたことを記念し、1948年よりお
 祝いされていましたが、1971年には加盟国の祝日として
 推奨する決議が採択されました。\n\n国連は、この国連
 憲章が5か国の常任理事国を含む大多数の加盟国が批准
 することにより、誕生したのです。\n\nユネスコは、国
 連の教育科学文化機関として、教育、科学、及び文化
 の分野で国際協力を推進し、平和を構築することを目
 指しています。ユネスコの推進するプログラムは、2015
 年の国連総会にて採択された、2030アジェンダに定義さ
 れている持続可能な開発目標の達成に貢献しています
 。\n\nユネスコスクールの国際指針では、年に2回以上国
 際デーを記念することが加盟継続の条件とされていま
 す。「国連デー」を取り上げ、本テーマでSDGs達成に向
 けた取組をしてみませんか？\n\nユネスコHP「国連デー
 」（英）：https://en.unesco.org/commemorations/unitednationsday\nユ
 ネスコHP「国際デー」一覧（英）：https://www.unesco.org/en/d
 ays
END:VEVENT
BEGIN:VTIMEZONE
TZID:Asia/Tokyo
X-LIC-LOCATION:Asia/Tokyo
BEGIN:STANDARD
DTSTART:20221024T000000
TZOFFSETFROM:+0900
TZOFFSETTO:+0900
TZNAME:JST
END:STANDARD
END:VTIMEZONE
END:VCALENDAR