BEGIN:VCALENDAR
VERSION:2.0
PRODID:-//wp-events-plugin.com//7.1.2//EN
TZID:Asia/Tokyo
X-WR-TIMEZONE:Asia/Tokyo
BEGIN:VEVENT
UID:4409@unesco-school.mext.go.jp
DTSTART;TZID=Asia/Tokyo;VALUE=DATE:20230308
DTEND;TZID=Asia/Tokyo;VALUE=DATE:20230309
DTSTAMP:20230303T002051Z
URL:https://www.unesco-school.mext.go.jp/events/international-womens-day-3
 -8-2/
SUMMARY:「国際女性デー」（3/8）
DESCRIPTION:3月8日は「国際女性デー」です。1945年に採択さ
 れた国連憲章は、男女平等の原則を支持する初めての
 国際協定でした。国連は、国際婦人年であった1975年の3
 月8日に初めて国際女性デーを祝い、2年後の1977年の国
 連総会では、国際女性デーを記念することが決議の中
 で宣言されました。\n\n2023年、ユネスコは国連の全機関
 と声を合わせ、第67回国連婦人の地位委員会の優先テー
 マである”Innovation and technological change\, and education in the 
 digital age for achieving gender equality and the empowerment of all women
  and girls（ジェンダー平等とすべての女性と少女のエン
 パワーメントを達成するためのデジタル時代のイノベ
 ーションと技術変化、教育）：”に沿った ”DigitALL: Inn
 ovation and technology for gender equality（ジェンダー平等のた
 めのイノベーションとテクノロジー）：”をテーマに
 、「国際女性デー」を記念します。\n\nユネスコスクー
 ルの国際指針では、年に2回以上国際デーを記念するこ
 とが加盟継続の条件とされています。「国際女性デー
 」を取り上げ、本テーマでSDGs達成に向けた取組をして
 みませんか？\n\nユネスコHP「国際女性デー」（英）：ht
 tps://en.unesco.org/commemorations/womenday\nユネスコHP「国際デー
 」一覧（英）：https://www.unesco.org/en/days\n\n【オードレ・
 アズレ　ユネスコ事務局長からのメッセージ（一部抜
 粋）】\n\n" Today\, on International Women’s Day\, we need to ensure 
 that women and girls benefit from the opportunities offered by the technol
 ogical transformation – but also\, and above all\, we need to ensure tha
 t they can help shape it\, on an equal footing. "
END:VEVENT
BEGIN:VTIMEZONE
TZID:Asia/Tokyo
X-LIC-LOCATION:Asia/Tokyo
BEGIN:STANDARD
DTSTART:20220308T000000
TZOFFSETFROM:+0900
TZOFFSETTO:+0900
TZNAME:JST
END:STANDARD
END:VTIMEZONE
END:VCALENDAR