BEGIN:VCALENDAR
VERSION:2.0
PRODID:-//wp-events-plugin.com//7.1.2//EN
TZID:Asia/Tokyo
X-WR-TIMEZONE:Asia/Tokyo
BEGIN:VEVENT
UID:4393@unesco-school.mext.go.jp
DTSTART;TZID=Asia/Tokyo;VALUE=DATE:20220730
DTEND;TZID=Asia/Tokyo;VALUE=DATE:20220731
DTSTAMP:20220722T014223Z
URL:https://www.unesco-school.mext.go.jp/events/international-friendship-d
 ay-7-30/
SUMMARY:「国際フレンドシップ・デー」（7/30）
DESCRIPTION:7月30日は「国際フレンドシップ・デー」です。
 この国際デーは2011年の国連総会にて、人々、国々、文
 化や個人の友好関係が平和への努力を促し、コミュニ
 ティ間の懸け橋になるという考えのもと宣言されまし
 た。\n\n決議では、未来のリーダーである若者を様々な
 文化や国際理解、多様性の尊重に関するコミュニティ
 の活動に参加させることに重点を置いています。\n\nま
 た、本国際デーは「平和の文化」を、暴力を排除し、
 問題解決を目的として根本的な原因に焦点を当てるこ
 とで紛争を防ぐ努力に関する価値、姿勢および態度と
 定義したユネスコの提案に基づくイニシアティブであ
 り、この提案は1997年の国連総会にて採択されました。\
 n\n平和の文化を促進する行動\n\n 	教育を通して平和の
 文化を育む\n 	持続可能な経済および社会の発展を促進
 する\n 	すべての人権を尊重することを促進する\n 	ジェ
 ンダー平等を確保する\n 	民主的な参加を奨励する\n 	理
 解、寛容、連帯を前進させる\n 	参加型のコミュニケー
 ションおよび情報と知識の自由な流れをサポートする\n
  	国際平和と安全を促進する\n\nユネスコスクールの国
 際指針では、年に2回以上国際デーを記念することが加
 盟継続の条件とされています。「国際フレンドシップ
 ・デー」を取り上げ、本テーマでSDGs達成に向けた取組
 をしてみませんか？\n\n国連「国際フレンドシップ・デ
 ー」HP（英）：https://www.un.org/en/observances/friendship-day\nユ
 ネスコスクールHP（英）「国際デー」：https://aspnet.unesco
 .org/en-us/international-days
END:VEVENT
BEGIN:VTIMEZONE
TZID:Asia/Tokyo
X-LIC-LOCATION:Asia/Tokyo
BEGIN:STANDARD
DTSTART:20210730T000000
TZOFFSETFROM:+0900
TZOFFSETTO:+0900
TZNAME:JST
END:STANDARD
END:VTIMEZONE
END:VCALENDAR