BEGIN:VCALENDAR
VERSION:2.0
PRODID:-//wp-events-plugin.com//7.1.2//EN
TZID:Asia/Tokyo
X-WR-TIMEZONE:Asia/Tokyo
BEGIN:VEVENT
UID:4345@unesco-school.mext.go.jp
DTSTART;TZID=Asia/Tokyo;VALUE=DATE:20211013
DTEND;TZID=Asia/Tokyo;VALUE=DATE:20211014
DTSTAMP:20211004T073651Z
URL:https://www.unesco-school.mext.go.jp/events/international-day-of-disas
 ter-reduction-10-13/
SUMMARY:「国際防災デー」（10/13）を記念して
DESCRIPTION:10月13日は「国際防災デー」です。国連総会に
 て危機意識と防災に関するグローバル文化を推進する
 呼びかけに応じ、1989年に制定されました。\n\n毎年、自
 然及び技術的（技術が要因の）ハザードが何百万人も
 の人々に影響を及ぼしています。しかし、その多くは
 積極的な対策や計画で軽減することができます。国際
 防災デーでは、毎年世界各国の人々や社会が、どのよ
 うに減災に取り組んでいるかを振り返る日です。ユネ
 スコは、災害発生後の対策よりも、災害発生前の行動
 に考え方をシフトし、各国の災害管理と気候変動に対
 応する能力構築の取り組みを支援しています。\n\n本年
 の国際防災デーでは、「開発途上国の災害リスクおよ
 び災害損失を削減するための国際協力」に焦点を当て
 ます。また、仙台防災枠組 2015-2030のターゲットFに沿い
 、人災や天災に影響される人々を減らすため、災害の
 起こりやすい地域に住む人々の生活にプラスの効果の
 ある国際協力の優良事例を紹介します。\n\n完全に災害
 リスクを排除することは不可能ですが、仙台防災枠組
 みのゴール、ターゲット及び優先事項に沿って政策や
 法的枠組みを策定し、関連機関を整備している国は、
 より災害リスクを管理する能力を有し、そのため災害
 が起きた際の影響を弱めることができます。しかし、
 防災のための成功戦略は複雑であり、とりわけマルチ
 ステークホルダーを調整するための効果的なメカニズ
 ムや包括的な国策、学際的で他部門にわたる協働と情
 報・意見の交換等が必要です。\n\n以上の点を念頭に、
 また災害が社会、個人、インフラとその健全性に与え
 る深い影響に焦点を当てつつ、本年のテーマは、現存
 するリスクを管理・軽減し、新しいリスクを引き起こ
 すことを避ける災害リスクの削減戦略が整っていれば
 多くの災害を防ぐことができる、というメッセージを
 発信することにあります。言い換えれば、「良い防災
 ガバナンス」です。\n\n#（ハッシュタグ） #OnlyTogether #D
 RRdayを活用し、対話に参加しましょう！\n\nユネスコス
 クールの国際指針では、年に2回以上国際デーを記念す
 ることが加盟継続の条件とされています。「国際防災
 デー」を記念して、本テーマでSDGs達成に向けた取組を
 してみませんか？\n\nユネスコHP「国際防災デー」（英
 ）：https://en.unesco.org/commemorations/disasterreductionday\nユネス
 コスクールHP（英）「国際デー」：https://aspnet.unesco.org/e
 n-us/international-days
END:VEVENT
BEGIN:VTIMEZONE
TZID:Asia/Tokyo
X-LIC-LOCATION:Asia/Tokyo
BEGIN:STANDARD
DTSTART:20201013T000000
TZOFFSETFROM:+0900
TZOFFSETTO:+0900
TZNAME:JST
END:STANDARD
END:VTIMEZONE
END:VCALENDAR