BEGIN:VCALENDAR
VERSION:2.0
PRODID:-//wp-events-plugin.com//7.1.2//EN
TZID:Asia/Tokyo
X-WR-TIMEZONE:Asia/Tokyo
BEGIN:VEVENT
UID:4368@unesco-school.mext.go.jp
DTSTART;TZID=Asia/Tokyo;VALUE=DATE:20211210
DTEND;TZID=Asia/Tokyo;VALUE=DATE:20211211
DTSTAMP:20211203T060455Z
URL:https://www.unesco-school.mext.go.jp/events/human-rights-day-12-10/
SUMMARY:「人権デー」（12/10）
DESCRIPTION:12月10日は「人権デー」です。人権デーは1948年
 の国連総会においてに世界人権宣言が採択された日を
 記念し、1950年に制定されました。\n\n世界人権宣言は私
 たちすべてに力を与えてくれるものです。宣言に謳わ
 れている原則は、今も1948年当時と変わることなく生き
 ています。私たちは、自らの権利及び他者の権利のた
 めに立ち上がらなければなりません。私たちは、自ら
 の日常生活において行動を起こすことで、すべての人
 々との絆を強め、またすべての人々を守る権利を擁護
 することができます。\n\nユネスコは1948年12月に教育と
 メディアを通し、世界人権宣言を世界中に呼びかけ、
 宣言をその行動の中心に据えることを決めた、最初の
 国連機関です。\n\n人権は、世界中の一人ひとりの日常
 生活において現実となったときに、新しい意味を持ち
 ます。人権をユネスコの担当する教育、科学、文化、
 コミュニケーション分野を通して徹底させることは、
 ユネスコの使命の中核にあります。\n\nユネスコスクー
 ルの国際指針では、年に2回以上国際デーを記念するこ
 とが加盟継続の条件とされています。「人権デー」を
 取り上げ、本テーマでSDGs達成に向けた取組をしてみま
 せんか？\n\nユネスコHP「人権デー」（英）：https://en.une
 sco.org/commemorations/humanrightsday\nユネスコスクールHP（英）
 「国際デー」：https://aspnet.unesco.org/en-us/international-days
END:VEVENT
BEGIN:VTIMEZONE
TZID:Asia/Tokyo
X-LIC-LOCATION:Asia/Tokyo
BEGIN:STANDARD
DTSTART:20201210T000000
TZOFFSETFROM:+0900
TZOFFSETTO:+0900
TZNAME:JST
END:STANDARD
END:VTIMEZONE
END:VCALENDAR