BEGIN:VCALENDAR
VERSION:2.0
PRODID:-//wp-events-plugin.com//7.1.2//EN
TZID:Asia/Tokyo
X-WR-TIMEZONE:Asia/Tokyo
BEGIN:VEVENT
UID:4481@unesco-school.mext.go.jp
DTSTART;TZID=Asia/Tokyo;VALUE=DATE:20250605
DTEND;TZID=Asia/Tokyo;VALUE=DATE:20250606
DTSTAMP:20250529T053151Z
URL:https://www.unesco-school.mext.go.jp/events/%e3%80%8c%e4%b8%96%e7%95%8
 c%e7%92%b0%e5%a2%83%e3%83%87%e3%83%bc%e3%80%8d%ef%bc%886-5%ef%bc%89/
SUMMARY:「世界環境デー」（6/5）
DESCRIPTION:※以下は、ユネスコ本部のページ（https://www.une
 sco.org/en/days/environment?hub=180536）の要約・仮訳です\n\n6月5
 日は「世界環境デー」です。国連は環境の保護と健全
 性が世界中の人々の幸福と経済発展に影響を与える主
 要な課題であるとし、この国際デーを定めました。世
 界環境デーは、個人、企業、地域社会が環境について
 の理解を深め、環境を守るために責任ある行動を起こ
 す機会です。\n\n2025年の世界環境デーは、プラスチック
 汚染に取り組むために協働することを呼び掛けていま
 す。\n\n1972年、環境に関する初めての大規模な会議であ
 る国連人間環境会議（通称ストックホルム会議）が開
 催され、これが国際的な環境政治学の発展の転機とな
 りました。その結果、同会議が開催された6月5日が、同
 年12月の国連総会で世界環境デーと定められました。加
 盟国や国連機関は毎年この日に、環境への意識を高め
 ることを目的に、環境の保護と改善に関する地球規模
 の活動に取り組むことが求められています。\n\nユネス
 コスクールの国際指針では、年に2回以上国際デーを記
 念することが加盟継続の条件とされています。「世界
 環境デー」を取り上げ、本テーマでSDGs達成に向けた取
 組をしてみませんか？\n\nユネスコHP「世界環境デー」
 （英）：https://www.unesco.org/en/days/environment?hub=180536\nユネ
 スコHP「国際デー」一覧（英）：https://www.unesco.org/en/days
 /list
END:VEVENT
BEGIN:VTIMEZONE
TZID:Asia/Tokyo
X-LIC-LOCATION:Asia/Tokyo
BEGIN:STANDARD
DTSTART:20240605T000000
TZOFFSETFROM:+0900
TZOFFSETTO:+0900
TZNAME:JST
END:STANDARD
END:VTIMEZONE
END:VCALENDAR