BEGIN:VCALENDAR
VERSION:2.0
PRODID:-//wp-events-plugin.com//7.1.2//EN
TZID:Asia/Tokyo
X-WR-TIMEZONE:Asia/Tokyo
BEGIN:VEVENT
UID:4482@unesco-school.mext.go.jp
DTSTART;TZID=Asia/Tokyo;VALUE=DATE:20250608
DTEND;TZID=Asia/Tokyo;VALUE=DATE:20250609
DTSTAMP:20250603T004533Z
URL:https://www.unesco-school.mext.go.jp/events/%e3%80%8c%e4%b8%96%e7%95%8
 c%e6%b5%b7%e6%b4%8b%e3%83%87%e3%83%bc%e3%80%8d%ef%bc%886-8%ef%bc%89/
SUMMARY:「世界海洋デー」（6/8）
DESCRIPTION:※以下は、ユネスコ本部のページ（https://www.une
 sco.org/en/days/oceans?hub=180536）の要約・仮訳です\n\n6月8日
 は「世界海洋デー」です。2008年12月5日の国連総会にて
 制定されました。世界海洋デーのコンセプトは、世界
 で共有する海や個人個人の海とのつながりに思いをは
 せ、海が私たちの生活に果たす重要な役割や海を守る
 大切な方法についての認識を高めることを目的に、1992
 年にリオデジャネイロで開催された地球サミットにて
 初めて提案されました。\n\n海は人類及び地球上のすべ
 ての生命を支えています。私たちは、海に完全に依存
 しているにもかかわらず、その10％ほどしか探査してい
 ません。海の広大さに比べ、私たちの知っていること
 はほんのわずかですが、わかっていることは私たちの
 行動の結果が海の至るところで明らかになっているこ
 とです。私たちは早急に海との関係を改善しなければ
 なりませんが、私たちの努力はこれまでのところ表面
 をかすっただけにすぎません。海に関する機運を広め
 るため、私たちは新たに理解を深めなければなりませ
 ん。\n\nユネスコスクールの国際指針では、年に2回以上
 国際デーを記念することが加盟継続の条件とされてい
 ます。「世界海洋デー」を取り上げ、本テーマでSDGs達
 成に向けた取組をしてみませんか？\n\nユネスコHP「世
 界海洋デー」（英）：https://www.unesco.org/en/days/oceans?hub=18
 0536\nユネスコHP「国際デー」一覧（英）：https://www.unesco
 .org/en/days
END:VEVENT
BEGIN:VTIMEZONE
TZID:Asia/Tokyo
X-LIC-LOCATION:Asia/Tokyo
BEGIN:STANDARD
DTSTART:20240608T000000
TZOFFSETFROM:+0900
TZOFFSETTO:+0900
TZNAME:JST
END:STANDARD
END:VTIMEZONE
END:VCALENDAR